Workbook

Sheet SUMMARY-F
B1: 2019 | C1: 2020 | D1: 2021 | E1: 2022 | F1: 2021 | G1: 2022
B2: YTD | C2: YTD | D2: YTD | E2: YTD | F2: Budget | G2: Budget
A3: Revenues
A4: Transfer from Reserves | B4: =SUM('GG -Admin'!C6+Council!C5+'Fire Dept'!C6+'Bylaw Enforcement'!C6+'Protective Services'!C6+Recreation!B4+Culture!B4+'Recycle & Garbage'!C4+'PW Summary'!B4+Airport!C6+'Land Dev'!C5) -> 192999.43 | C4: =SUM('GG -Admin'!D6+Council!D5+'Fire Dept'!D6+'Bylaw Enforcement'!D6+'Protective Services'!D6+Recreation!C4+Culture!C4+'Recycle & Garbage'!D4+'PW Summary'!C4+Airport!D6+'Land Dev'!D5) -> 190175 | D4: =SUM('GG -Admin'!E6+Council!E5+'Fire Dept'!E6+'Bylaw Enforcement'!E6+'Protective Services'!E6+Recreation!D4+Culture!D4+'Recycle & Garbage'!E4+'PW Summary'!D4+Airport!E6+'Land Dev'!E5) -> 462265.62 | E4: =SUM('GG -Admin'!F6+Council!F5+'Fire Dept'!F6+'Bylaw Enforcement'!F6+'Protective Services'!F6+Recreation!E4+Culture!E4+'Recycle & Garbage'!F4+'PW Summary'!E4+Airport!F6+'Land Dev'!F5) -> 11677.5 | F4: =SUM('GG -Admin'!G6+Council!G5+'Fire Dept'!G6+'Bylaw Enforcement'!G6+'Protective Services'!G6+Recreation!F4+Culture!F4+'Recycle & Garbage'!G4+'PW Summary'!F4+Airport!G6+'Land Dev'!G5) -> 470760 | G4: =SUM('GG -Admin'!H6+Council!H5+'Fire Dept'!H6+'Bylaw Enforcement'!H6+'Protective Services'!H6+Recreation!G4+Culture!G4+'Recycle & Garbage'!H4+'PW Summary'!G4+Airport!H6+'Land Dev'!H5) -> 921770
A5: Fees and Charges | B5: =SUM('GG -Admin'!C22+'Fire Dept'!C11+'Building Inspection'!C7+'Bylaw Enforcement'!C12+'Protective Services'!C14+Recreation!B5+Culture!B5+'Recycle & Garbage'!C12+'PW Summary'!B5+Airport!C10+'Ec Dev'!C6) -> 2939015.6 | C5: =SUM('GG -Admin'!D22+'Fire Dept'!D11+'Building Inspection'!D7+'Bylaw Enforcement'!D12+'Protective Services'!D14+Recreation!C5+Culture!C5+'Recycle & Garbage'!D12+'PW Summary'!C5+Airport!D10+'Ec Dev'!D6) -> 3039529.1 | D5: =SUM('GG -Admin'!E22+'Fire Dept'!E11+'Building Inspection'!E7+'Bylaw Enforcement'!E12+'Protective Services'!E14+Recreation!D5+Culture!D5+'Recycle & Garbage'!E12+'PW Summary'!D5+Airport!E10+'Ec Dev'!E6) -> 2984847.8 | E5: =SUM('GG -Admin'!F22+'Fire Dept'!F11+'Building Inspection'!F7+'Bylaw Enforcement'!F12+'Protective Services'!F14+Recreation!E5+Culture!E5+'Recycle & Garbage'!F12+'PW Summary'!E5+Airport!F10+'Ec Dev'!F6) -> 2370416.3 | F5: =SUM('GG -Admin'!G22+'Fire Dept'!G11+'Building Inspection'!G7+'Bylaw Enforcement'!G12+'Protective Services'!G14+Recreation!F5+Culture!F5+'Recycle & Garbage'!G12+'PW Summary'!F5+Airport!G10+'Ec Dev'!G6) -> 2954600 | G5: =SUM('GG -Admin'!H22+'Fire Dept'!H11+'Building Inspection'!H7+'Bylaw Enforcement'!H12+'Protective Services'!H14+Recreation!G5+Culture!G5+'Recycle & Garbage'!H12+'PW Summary'!G5+Airport!H10+'Ec Dev'!H6) -> 3015000
A6: Land Sales - Gain | B6: ='Land Dev'!C8 -> 6642.34 | C6: ='Land Dev'!D8 -> 20153.65 | D6: ='Land Dev'!E8 -> 22777.24 | E6: ='Land Dev'!F8 -> 0 | F6: ='Land Dev'!G8 -> 68230 | G6: ='Land Dev'!H8 -> 105680
A7: Grants | B7: =SUM('GG -Admin'!C31+Recreation!B6+'PW Summary'!B6+Airport!C14) -> 627995.4 | C7: =SUM('GG -Admin'!D31+Recreation!C6+'PW Summary'!C6+Airport!D14) -> 749841.86 | D7: =SUM('GG -Admin'!E31+Recreation!D6+'PW Summary'!D6+Airport!E14) -> 824325.74 | E7: =SUM('GG -Admin'!F31+Recreation!E6+'PW Summary'!E6+Airport!F14) -> 182916.96 | F7: =SUM('GG -Admin'!G31+Recreation!F6+'PW Summary'!F6+Airport!G14) -> 567750 | G7: =SUM('GG -Admin'!H31+Recreation!G6+'PW Summary'!G6+Airport!H14) -> 562270
A8: Total Revenues | B8: =SUM(B4:B7) -> 3766652.8 | C8: =SUM(C4:C7) -> 3999699.6 | D8: =SUM(D4:D7) -> 4294216.5 | E8: =SUM(E4:E7) -> 2565010.8 | F8: =SUM(F4:F7) -> 4061340 | G8: =SUM(G4:G7) -> 4604720
A10: Expenses
A11: Wages and Benefits | B11: =SUM('GG -Admin'!C43+Council!C13+'Fire Dept'!C20+'Bylaw Enforcement'!C20+'Protective Services'!C22+Recreation!B10+Culture!B10+'Recycle & Garbage'!C20+'PW Summary'!B10) -> 605763.51 | C11: =SUM('GG -Admin'!D43+Council!D13+'Fire Dept'!D20+'Bylaw Enforcement'!D20+'Protective Services'!D22+Recreation!C10+Culture!C10+'Recycle & Garbage'!D20+'PW Summary'!C10) -> 714071.36 | D11: =SUM('GG -Admin'!E43+Council!E13+'Fire Dept'!E20+'Bylaw Enforcement'!E20+'Protective Services'!E22+Recreation!D10+Culture!D10+'Recycle & Garbage'!E20+'PW Summary'!D10) -> 1075049.8 | E11: =SUM('GG -Admin'!F43+Council!F13+'Fire Dept'!F20+'Bylaw Enforcement'!F20+'Protective Services'!F22+Recreation!E10+Culture!E10+'Recycle & Garbage'!F20+'PW Summary'!E10) -> 658529.3 | F11: =SUM('GG -Admin'!G43+Council!G13+'Fire Dept'!G20+'Bylaw Enforcement'!G20+'Protective Services'!G22+Recreation!F10+Culture!F10+'Recycle & Garbage'!G20+'PW Summary'!F10) -> 1128039 | G11: =SUM('GG -Admin'!H43+Council!H13+'Fire Dept'!H20+'Bylaw Enforcement'!H20+'Protective Services'!H22+Recreation!G10+Culture!G10+'Recycle & Garbage'!H20+'PW Summary'!G10) -> 1223719.4
A12: Professional/Contractual Services | B12: =SUM('GG -Admin'!C52+'Fire Dept'!C24+'Building Inspection'!C14+'Bylaw Enforcement'!C25+'Protective Services'!C26+Recreation!B11+Culture!B11+'Recycle & Garbage'!C25+'PW Summary'!B11+Airport!C21+'Ec Dev'!C13+'Land Dev'!C16) -> 621489.84 | C12: =SUM('GG -Admin'!D52+'Fire Dept'!D24+'Building Inspection'!D14+'Bylaw Enforcement'!D25+'Protective Services'!D26+Recreation!C11+Culture!C11+'Recycle & Garbage'!D25+'PW Summary'!C11+Airport!D21+'Ec Dev'!D13+'Land Dev'!D16) -> 512161.85 | D12: =SUM('GG -Admin'!E52+'Fire Dept'!E24+'Building Inspection'!E14+'Bylaw Enforcement'!E25+'Protective Services'!E26+Recreation!D11+Culture!D11+'Recycle & Garbage'!E25+'PW Summary'!D11+Airport!E21+'Ec Dev'!E13+'Land Dev'!E16) -> 541834.62 | E12: =SUM('GG -Admin'!F52+'Fire Dept'!F24+'Building Inspection'!F14+'Bylaw Enforcement'!F25+'Protective Services'!F26+Recreation!E11+Culture!E11+'Recycle & Garbage'!F25+'PW Summary'!E11+Airport!F21+'Ec Dev'!F13+'Land Dev'!F16) -> 389236.7 | F12: =SUM('GG -Admin'!G52+'Fire Dept'!G24+'Building Inspection'!G14+'Bylaw Enforcement'!G25+'Protective Services'!G26+Recreation!F11+Culture!F11+'Recycle & Garbage'!G25+'PW Summary'!F11+Airport!G21+'Ec Dev'!G13+'Land Dev'!G16) -> 611980 | G12: =SUM('GG -Admin'!H52+'Fire Dept'!H24+'Building Inspection'!H14+'Bylaw Enforcement'!H25+'Protective Services'!H26+Recreation!G11+Culture!G11+'Recycle & Garbage'!H25+'PW Summary'!G11+Airport!H21+'Ec Dev'!H13+'Land Dev'!H16) -> 737670
A13: Utilities | B13: =SUM('GG -Admin'!C59+'Fire Dept'!C28+'Protective Services'!C30+Recreation!B12+Culture!B12+'PW Summary'!B12+Airport!C25+'Ec Dev'!C17) -> 194780.01 | C13: =SUM('GG -Admin'!D59+'Fire Dept'!D28+'Protective Services'!D30+Recreation!C12+Culture!C12+'PW Summary'!C12+Airport!D25+'Ec Dev'!D17) -> 229155.85 | D13: =SUM('GG -Admin'!E59+'Fire Dept'!E28+'Protective Services'!E30+Recreation!D12+Culture!D12+'PW Summary'!D12+Airport!E25+'Ec Dev'!E17) -> 244201.8 | E13: =SUM('GG -Admin'!F59+'Fire Dept'!F28+'Protective Services'!F30+Recreation!E12+Culture!E12+'PW Summary'!E12+Airport!F25+'Ec Dev'!F17) -> 172339.79 | F13: =SUM('GG -Admin'!G59+'Fire Dept'!G28+'Protective Services'!G30+Recreation!F12+Culture!F12+'PW Summary'!F12+Airport!G25+'Ec Dev'!G17) -> 263730 | G13: =SUM('GG -Admin'!H59+'Fire Dept'!H28+'Protective Services'!H30+Recreation!G12+Culture!G12+'PW Summary'!G12+Airport!H25+'Ec Dev'!H17) -> 257140
A14: Maintenance, Materials, and Supplies | B14: =SUM('GG -Admin'!C73+Council!C17+'Fire Dept'!C38+'Bylaw Enforcement'!C29+'Protective Services'!C35+Recreation!B13+Culture!B13+'Recycle & Garbage'!C30+'PW Summary'!B13+Airport!C30+'Ec Dev'!C21+'Land Dev'!C20) -> 668638.93 | C14: =SUM('GG -Admin'!D73+Council!D17+'Fire Dept'!D38+'Bylaw Enforcement'!D29+'Protective Services'!D35+Recreation!C13+Culture!C13+'Recycle & Garbage'!D30+'PW Summary'!C13+Airport!D30+'Ec Dev'!D21+'Land Dev'!D20) -> 668520.31 | D14: =SUM('GG -Admin'!E73+Council!E17+'Fire Dept'!E38+'Bylaw Enforcement'!E29+'Protective Services'!E35+Recreation!D13+Culture!D13+'Recycle & Garbage'!E30+'PW Summary'!D13+Airport!E30+'Ec Dev'!E21+'Land Dev'!E20) -> 771508.08 | E14: =SUM('GG -Admin'!F73+Council!F17+'Fire Dept'!F38+'Bylaw Enforcement'!F29+'Protective Services'!F35+Recreation!E13+Culture!E13+'Recycle & Garbage'!F30+'PW Summary'!E13+Airport!F30+'Ec Dev'!F21+'Land Dev'!F20) -> 515585.55 | F14: =SUM('GG -Admin'!G73+Council!G17+'Fire Dept'!G38+'Bylaw Enforcement'!G29+'Protective Services'!G35+Recreation!F13+Culture!F13+'Recycle & Garbage'!G30+'PW Summary'!F13+Airport!G30+'Ec Dev'!G21+'Land Dev'!G20) -> 794390 | G14: =SUM('GG -Admin'!H73+Council!H17+'Fire Dept'!H38+'Bylaw Enforcement'!H29+'Protective Services'!H35+Recreation!G13+Culture!G13+'Recycle & Garbage'!H30+'PW Summary'!G13+Airport!H30+'Ec Dev'!H21+'Land Dev'!H20) -> 961920
A15: Grants and Contributions | B15: =SUM('GG -Admin'!C77+Recreation!B14+Culture!B14) -> 137517.77 | C15: =SUM('GG -Admin'!D77+Recreation!C14+Culture!C14) -> 220562.34 | D15: =SUM('GG -Admin'!E77+Recreation!D14+Culture!D14) -> 74909.37 | E15: =SUM('GG -Admin'!F77+Recreation!E14+Culture!E14) -> 47632.27 | F15: =SUM('GG -Admin'!G77+Recreation!F14+Culture!F14) -> 59410 | G15: =SUM('GG -Admin'!H77+Recreation!G14+Culture!G14) -> 67650
A16: Amortization | B16: =SUM('GG -Admin'!C81+'Fire Dept'!C42+'Protective Services'!C39+Recreation!B15+Culture!B15+'PW Summary'!B14) -> 366142.36 | C16: =SUM('GG -Admin'!D81+'Fire Dept'!D42+'Protective Services'!D39+Recreation!C15+Culture!C15+'PW Summary'!C14) -> 414182.82 | D16: =SUM('GG -Admin'!E81+'Fire Dept'!E42+'Protective Services'!E39+Recreation!D15+Culture!D15+'PW Summary'!D14) -> 452904.21 | E16: =SUM('GG -Admin'!F81+'Fire Dept'!F42+'Protective Services'!F39+Recreation!E15+Culture!E15+'PW Summary'!E14) -> 0 | F16: =SUM('GG -Admin'!G81+'Fire Dept'!G42+'Protective Services'!G39+Recreation!F15+Culture!F15+'PW Summary'!F14) -> 0 | G16: =SUM('GG -Admin'!H81+'Fire Dept'!H42+'Protective Services'!H39+Recreation!G15+Culture!G15+'PW Summary'!G14) -> 0
A17: Interest & Bank Charges | B17: =SUM('GG -Admin'!C85+Recreation!B16+Culture!B16+'PW Summary'!B15) -> 76206.38 | C17: =SUM('GG -Admin'!D85+Recreation!C16+Culture!C16+'PW Summary'!C15) -> 51701.63 | D17: =SUM('GG -Admin'!E85+Recreation!D16+Culture!D16+'PW Summary'!D15) -> 40431.68 | E17: =SUM('GG -Admin'!F85+Recreation!E16+Culture!E16+'PW Summary'!E15) -> 264476.71 | F17: =SUM('GG -Admin'!G85+Recreation!F16+Culture!F16+'PW Summary'!F15) -> 50110 | G17: =SUM('GG -Admin'!H85+Recreation!G16+Culture!G16+'PW Summary'!G15) -> 138100
A18: Other | B18: =SUM('GG -Admin'!C90+Council!C25+'Fire Dept'!C46+Recreation!B17+Culture!B18+'PW Summary'!B16) -> 8198.77 | C18: =SUM('GG -Admin'!D90+Council!D25+'Fire Dept'!D46+Recreation!C17+Culture!C18+'PW Summary'!C16) -> 8940.12 | D18: =SUM('GG -Admin'!E90+Council!E25+'Fire Dept'!E46+Recreation!D17+Culture!D18+'PW Summary'!D16) -> 16825.96 | E18: =SUM('GG -Admin'!F90+Council!F25+'Fire Dept'!F46+Recreation!E17+Culture!E18+'PW Summary'!E16) -> 7726.81 | F18: =SUM('GG -Admin'!G90+Council!G25+'Fire Dept'!G46+Recreation!F17+Culture!F18+'PW Summary'!F16) -> 19100 | G18: =SUM('GG -Admin'!H90+Council!H25+'Fire Dept'!H46+Recreation!G17+Culture!G18+'PW Summary'!G16) -> 23680
A19: Loan Repayment | B19: =SUM('PW Summary'!B17) -> 0 | C19: =SUM('PW Summary'!C17) -> 0 | D19: =SUM('PW Summary'!D17) -> 0 | E19: =SUM('PW Summary'!E17) -> 0 | F19: =SUM('PW Summary'!F17) -> 218270 | G19: =SUM('PW Summary'!G17) -> 303160
A20: Capital | B20: =SUM('GG -Admin'!C96+'Fire Dept'!C48+'Protective Services'!C43+Recreation!B18+Culture!B18+'PW Summary'!B18+Airport!C34) -> 0 | C20: =SUM('GG -Admin'!D96+'Fire Dept'!D48+'Protective Services'!D43+Recreation!C18+Culture!C18+'PW Summary'!C18+Airport!D34) -> 0 | D20: =SUM('GG -Admin'!E96+'Fire Dept'!E48+'Protective Services'!E43+Recreation!D18+Culture!D18+'PW Summary'!D18+Airport!E34) -> 0.06 | E20: =SUM('GG -Admin'!F96+'Fire Dept'!F48+'Protective Services'!F43+Recreation!E18+Culture!E18+'PW Summary'!E18+Airport!F34) -> 440728.2 | F20: =SUM('GG -Admin'!G96+'Fire Dept'!G48+'Protective Services'!G43+Recreation!F18+Culture!F18+'PW Summary'!F18+Airport!G34) -> 366610 | G20: =SUM('GG -Admin'!H96+'Fire Dept'!H48+'Protective Services'!H43+Recreation!G18+Culture!G18+'PW Summary'!G18+Airport!H34) -> 671000
A21: Transfer to Reserves | B21: =SUM('GG -Admin'!C99+'Fire Dept'!C49+'Protective Services'!C46+Recreation!B19+Culture!B19+'Recycle & Garbage'!C32+'PW Summary'!B19+'Land Dev'!C23) -> 304064.43 | C21: =SUM('GG -Admin'!D99+'Fire Dept'!D49+'Protective Services'!D46+Recreation!C19+Culture!C19+'Recycle & Garbage'!D32+'PW Summary'!C19+'Land Dev'!D23) -> 1003146.9 | D21: =SUM('GG -Admin'!E99+'Fire Dept'!E49+'Protective Services'!E46+Recreation!D19+Culture!D19+'Recycle & Garbage'!E32+'PW Summary'!D19+'Land Dev'!E23) -> 691292.64 | E21: =SUM('GG -Admin'!F99+'Fire Dept'!F49+'Protective Services'!F46+Recreation!E19+Culture!E19+'Recycle & Garbage'!F32+'PW Summary'!E19+'Land Dev'!F23) -> 0 | F21: =SUM('GG -Admin'!G99+'Fire Dept'!G49+'Protective Services'!G46+Recreation!F19+Culture!F19+'Recycle & Garbage'!G32+'PW Summary'!F19+'Land Dev'!G23) -> 537400 | G21: =SUM('GG -Admin'!H99+'Fire Dept'!H49+'Protective Services'!H46+Recreation!G19+Culture!G19+'Recycle & Garbage'!H32+'PW Summary'!G19+'Land Dev'!H23) -> 220680
A22: Total Expenses | B22: =SUM(B11:B21) -> 2982802 | C22: =SUM(C11:C21) -> 3822443.2 | D22: =SUM(D11:D21) -> 3908958.3 | E22: =SUM(E11:E21) -> 2496255.3 | F22: =SUM(F11:F21) -> 4049039 | G22: =SUM(G11:G21) -> 4604719.4
A24: Surplus (Deficit) by Cost Centre | B24: =B8-B22 -> 783850.77 | C24: =C8-C22 -> 177256.41 | D24: =D8-D22 -> 385258.19 | E24: =E8-E22 -> 68755.46 | F24: =F8-F22 -> 12301 | G24: =G8-G22-1 -> -0.401
A29: Approved on ___________________________________
A33: Amund Otterson, Mayor

Sheet GG -Admin
C1: =+[1]Master!C3 -> 2019 | D1: =+[1]Master!D3 -> 2020 | E1: =+[1]Master!E3 -> 2021 | F1: =+[1]Master!F3 -> 2022 | G1: =+[1]Master!G3 -> 2021 | H1: =+[1]Master!H3 -> 2022
C2: =+[1]Master!C4 -> YTD | D2: =+[1]Master!D4 -> YTD | E2: =+[1]Master!E4 -> YTD | F2: =+[1]Master!F4 -> YTD | G2: =+[1]Master!G4 -> Budget | H2: =+[1]Master!H4 -> Budget
A3: Revenues
A4: Reserves:
A5: 490-100-190 | B5: =VLOOKUP(A5,'[1]SQL DATA'!$B:$J,3,FALSE) -> Transfer from Reserves - Admin | C5: =VLOOKUP(A5,'[1]SQL DATA'!$B:$K,10,FALSE) -> 0 | D5: =VLOOKUP(A5,'[1]SQL DATA'!$B:$J,9,FALSE) -> 0 | E5: =VLOOKUP(A5,'[1]SQL DATA'!$B:$J,7,FALSE) -> 20249.33 | F5: =VLOOKUP(A5,'[1]SQL DATA'!$B:$J,6,FALSE) -> 0 | G5: 35000 | H5: 40120
A6: Total Transfers from Reserves | C6: =SUM(C5) -> 0 | D6: =SUM(D5) -> 0 | E6: =SUM(E5) -> 20249.33 | F6: =SUM(F5) -> 0 | G6: =SUM(G5) -> 35000 | H6: =SUM(H5) -> 40120
A8: Fees and Charges:
A9: 410-110-100 | B9: =VLOOKUP(A9,'[1]SQL DATA'!$B:$J,3,FALSE) -> General Municipal Levy | C9: =VLOOKUP(A9,'[1]SQL DATA'!$B:$K,10,FALSE) -> 1527239.4 | D9: =VLOOKUP(A9,'[1]SQL DATA'!$B:$J,9,FALSE) -> 1540045.9 | E9: =VLOOKUP(A9,'[1]SQL DATA'!$B:$J,7,FALSE) -> 1536499.8 | F9: =VLOOKUP(A9,'[1]SQL DATA'!$B:$J,6,FALSE) -> 1607355.1 | G9: 1530320 | H9: 1607350
A10: 410-120-100 | B10: =VLOOKUP(A10,'[1]SQL DATA'!$B:$J,3,FALSE) -> Property Tax Abatements & Adjustments | C10: =VLOOKUP(A10,'[1]SQL DATA'!$B:$K,10,FALSE) -> -24413.11 | D10: =VLOOKUP(A10,'[1]SQL DATA'!$B:$J,9,FALSE) -> -38665.5 | E10: =VLOOKUP(A10,'[1]SQL DATA'!$B:$J,7,FALSE) -> -64078.63 | F10: =VLOOKUP(A10,'[1]SQL DATA'!$B:$J,6,FALSE) -> -17516.97 | G10: -24410 | H10: -24410
A11: 410-130-100 | B11: =VLOOKUP(A11,'[1]SQL DATA'!$B:$J,3,FALSE) -> Discount on Municipal Tax - Property | C11: =VLOOKUP(A11,'[1]SQL DATA'!$B:$K,10,FALSE) -> -69771.98 | D11: =VLOOKUP(A11,'[1]SQL DATA'!$B:$J,9,FALSE) -> -74818.39 | E11: =VLOOKUP(A11,'[1]SQL DATA'!$B:$J,7,FALSE) -> -79145.75 | F11: =VLOOKUP(A11,'[1]SQL DATA'!$B:$J,6,FALSE) -> -80055.82 | G11: -75000 | H11: -75000
A12: 410-400-210 | B12: =VLOOKUP(A12,'[1]SQL DATA'!$B:$J,3,FALSE) -> Penalty on Mun Taxes Arrears - Property | C12: =VLOOKUP(A12,'[1]SQL DATA'!$B:$K,10,FALSE) -> 47669.29 | D12: =VLOOKUP(A12,'[1]SQL DATA'!$B:$J,9,FALSE) -> 49176.33 | E12: =VLOOKUP(A12,'[1]SQL DATA'!$B:$J,7,FALSE) -> 57742.64 | F12: =VLOOKUP(A12,'[1]SQL DATA'!$B:$J,6,FALSE) -> 13916.49 | G12: 50000 | H12: 38300
A13: 420-200-200 | B13: =VLOOKUP(A13,'[1]SQL DATA'!$B:$J,3,FALSE) -> F&C - Sale of Supplies - Office | C13: =VLOOKUP(A13,'[1]SQL DATA'!$B:$K,10,FALSE) -> 73 | D13: =VLOOKUP(A13,'[1]SQL DATA'!$B:$J,9,FALSE) -> 0 | E13: =VLOOKUP(A13,'[1]SQL DATA'!$B:$J,7,FALSE) -> 45 | F13: =VLOOKUP(A13,'[1]SQL DATA'!$B:$J,6,FALSE) -> 10 | G13: 100 | H13: 100
A14: 420-300-100 | B14: =VLOOKUP(A14,'[1]SQL DATA'!$B:$J,3,FALSE) -> F&C - Rentals & Mobile Home & Lot Leases | C14: =VLOOKUP(A14,'[1]SQL DATA'!$B:$K,10,FALSE) -> 7700 | D14: =VLOOKUP(A14,'[1]SQL DATA'!$B:$J,9,FALSE) -> 5100 | E14: =VLOOKUP(A14,'[1]SQL DATA'!$B:$J,7,FALSE) -> 5754.89 | F14: =VLOOKUP(A14,'[1]SQL DATA'!$B:$J,6,FALSE) -> 3120 | G14: 3600 | H14: 5750
A15: 420-710-110 | B15: =VLOOKUP(A15,'[1]SQL DATA'!$B:$J,3,FALSE) -> F&C - SAMA Fees | C15: =VLOOKUP(A15,'[1]SQL DATA'!$B:$K,10,FALSE) -> 40 | D15: =VLOOKUP(A15,'[1]SQL DATA'!$B:$J,9,FALSE) -> 40 | E15: =VLOOKUP(A15,'[1]SQL DATA'!$B:$J,7,FALSE) -> 140 | F15: =VLOOKUP(A15,'[1]SQL DATA'!$B:$J,6,FALSE) -> 0 | G15: 250 | H15: 250
A16: 420-800-100 | B16: =VLOOKUP(A16,'[1]SQL DATA'!$B:$J,3,FALSE) -> F&C - Tax Certificate | C16: =VLOOKUP(A16,'[1]SQL DATA'!$B:$K,10,FALSE) -> 725 | D16: =VLOOKUP(A16,'[1]SQL DATA'!$B:$J,9,FALSE) -> 1450 | E16: =VLOOKUP(A16,'[1]SQL DATA'!$B:$J,7,FALSE) -> 2200 | F16: =VLOOKUP(A16,'[1]SQL DATA'!$B:$J,6,FALSE) -> 650 | G16: 1400 | H16: 2200
A17: 420-800-200 | B17: =VLOOKUP(A17,'[1]SQL DATA'!$B:$J,3,FALSE) -> F&C - General Office Services Provided | C17: =VLOOKUP(A17,'[1]SQL DATA'!$B:$K,10,FALSE) -> 1962.52 | D17: =VLOOKUP(A17,'[1]SQL DATA'!$B:$J,9,FALSE) -> 1211.85 | E17: =VLOOKUP(A17,'[1]SQL DATA'!$B:$J,7,FALSE) -> 157.75 | F17: =VLOOKUP(A17,'[1]SQL DATA'!$B:$J,6,FALSE) -> 133.42 | G17: 1200 | H17: 150
A18: 420-800-230 | B18: =VLOOKUP(A18,'[1]SQL DATA'!$B:$J,3,FALSE) -> F&C - Notarize Documents | C18: =VLOOKUP(A18,'[1]SQL DATA'!$B:$K,10,FALSE) -> 210.57 | D18: =VLOOKUP(A18,'[1]SQL DATA'!$B:$J,9,FALSE) -> 195 | E18: =VLOOKUP(A18,'[1]SQL DATA'!$B:$J,7,FALSE) -> 175 | F18: =VLOOKUP(A18,'[1]SQL DATA'!$B:$J,6,FALSE) -> 148.57 | G18: 200 | H18: 200
A19: 420-800-240 | B19: =VLOOKUP(A19,'[1]SQL DATA'!$B:$J,3,FALSE) -> F&C - Administration Fees | C19: =VLOOKUP(A19,'[1]SQL DATA'!$B:$K,10,FALSE) -> 2390.48 | D19: =VLOOKUP(A19,'[1]SQL DATA'!$B:$J,9,FALSE) -> 2250.28 | E19: =VLOOKUP(A19,'[1]SQL DATA'!$B:$J,7,FALSE) -> 3674.28 | F19: =VLOOKUP(A19,'[1]SQL DATA'!$B:$J,6,FALSE) -> 784.22 | G19: 500 | H19: 2720
A20: 470-100-100 | B20: =VLOOKUP(A20,'[1]SQL DATA'!$B:$J,3,FALSE) -> Interest Revenue | C20: =VLOOKUP(A20,'[1]SQL DATA'!$B:$K,10,FALSE) -> 11997.61 | D20: =VLOOKUP(A20,'[1]SQL DATA'!$B:$J,9,FALSE) -> 13777.18 | E20: =VLOOKUP(A20,'[1]SQL DATA'!$B:$J,7,FALSE) -> 11119.07 | F20: =VLOOKUP(A20,'[1]SQL DATA'!$B:$J,6,FALSE) -> 12206.02 | G20: 14000 | H20: 11740
A21: 480-170-100 | B21: =VLOOKUP(A21,'[1]SQL DATA'!$B:$J,3,FALSE) -> F&C - Housing Authority Surplus | C21: =VLOOKUP(A21,'[1]SQL DATA'!$B:$K,10,FALSE) -> 690.01 | D21: =VLOOKUP(A21,'[1]SQL DATA'!$B:$J,9,FALSE) -> 0 | E21: =VLOOKUP(A21,'[1]SQL DATA'!$B:$J,7,FALSE) -> 0 | F21: =VLOOKUP(A21,'[1]SQL DATA'!$B:$J,6,FALSE) -> 0 | G21: 0 | H21: 0
A22: Total Fees and Charges | C22: =SUM(C9:C21) -> 1506512.8 | D22: =SUM(D9:D21) -> 1499762.6 | E22: =SUM(E9:E21) -> 1474284 | F22: =SUM(F9:F21) -> 1540751 | G22: =SUM(G9:G21) -> 1502160 | H22: =SUM(H9:H21) -> 1569350
A24: Grants - Conditional:
A25: 450-110-100 | B25: =VLOOKUP(A25,'[1]SQL DATA'!$B:$J,3,FALSE) -> Unconditional - Revenue Sharing | C25: =VLOOKUP(A25,'[1]SQL DATA'!$B:$K,10,FALSE) -> 296657 | D25: =VLOOKUP(A25,'[1]SQL DATA'!$B:$J,9,FALSE) -> 328939 | E25: =VLOOKUP(A25,'[1]SQL DATA'!$B:$J,7,FALSE) -> 325987 | F25: =VLOOKUP(A25,'[1]SQL DATA'!$B:$J,6,FALSE) -> 80800 | G25: 325990 | H25: 323210
A26: 450-140-100 | B26: =VLOOKUP(A26,'[1]SQL DATA'!$B:$J,3,FALSE) -> Unconditional - Sask Energy Mun. Srchge | C26: =VLOOKUP(A26,'[1]SQL DATA'!$B:$K,10,FALSE) -> 37399.35 | D26: =VLOOKUP(A26,'[1]SQL DATA'!$B:$J,9,FALSE) -> 35916.27 | E26: =VLOOKUP(A26,'[1]SQL DATA'!$B:$J,7,FALSE) -> 34679.64 | F26: =VLOOKUP(A26,'[1]SQL DATA'!$B:$J,6,FALSE) -> 25654.94 | G26: 35910 | H26: 34680
A27: 450-140-110 | B27: =VLOOKUP(A27,'[1]SQL DATA'!$B:$J,3,FALSE) -> Unconditional - SaskPower Mun. Srchg | C27: =VLOOKUP(A27,'[1]SQL DATA'!$B:$K,10,FALSE) -> 87250.99 | D27: =VLOOKUP(A27,'[1]SQL DATA'!$B:$J,9,FALSE) -> 88724.04 | E27: =VLOOKUP(A27,'[1]SQL DATA'!$B:$J,7,FALSE) -> 91919.75 | F27: =VLOOKUP(A27,'[1]SQL DATA'!$B:$J,6,FALSE) -> 47475.59 | G27: 88720 | H27: 91900
A28: 450-200-070 | B28: =VLOOKUP(A28,'[1]SQL DATA'!$B:$J,3,FALSE) -> Conditional - Federal - Gas Tax | C28: =VLOOKUP(A28,'[1]SQL DATA'!$B:$K,10,FALSE) -> 178589.7 | D28: =VLOOKUP(A28,'[1]SQL DATA'!$B:$J,9,FALSE) -> 127794 | E28: =VLOOKUP(A28,'[1]SQL DATA'!$B:$J,7,FALSE) -> 175951.4 | F28: =VLOOKUP(A28,'[1]SQL DATA'!$B:$J,6,FALSE) -> 0 | G28: 89240 | H28: 89240
A29: 450-305-105 | B29: =VLOOKUP(A29,'[1]SQL DATA'!$B:$J,3,FALSE) -> Conditional - Prov - Safe Restart Prog. | C29: =VLOOKUP(A29,'[1]SQL DATA'!$B:$K,10,FALSE) -> 0 | D29: =VLOOKUP(A29,'[1]SQL DATA'!$B:$J,9,FALSE) -> 86140 | E29: =VLOOKUP(A29,'[1]SQL DATA'!$B:$J,7,FALSE) -> 0 | F29: =VLOOKUP(A29,'[1]SQL DATA'!$B:$J,6,FALSE) -> 0 | G29: 0 | H29: 0
A30: 450-340-100 | B30: =VLOOKUP(A30,'[1]SQL DATA'!$B:$J,3,FALSE) -> Conditional - Prov - Transit Disabled | C30: =VLOOKUP(A30,'[1]SQL DATA'!$B:$K,10,FALSE) -> 1522 | D30: =VLOOKUP(A30,'[1]SQL DATA'!$B:$J,9,FALSE) -> 1925 | E30: =VLOOKUP(A30,'[1]SQL DATA'!$B:$J,7,FALSE) -> 1759 | F30: =VLOOKUP(A30,'[1]SQL DATA'!$B:$J,6,FALSE) -> 3992 | G30: 1510 | H30: 1760
A31: Total Grants - Conditional | C31: =SUM(C25:C30) -> 601419.04 | D31: =SUM(D25:D30) -> 669438.31 | E31: =SUM(E25:E30) -> 630296.79 | F31: =SUM(F25:F30) -> 157922.53 | G31: =SUM(G25:G30) -> 541370 | H31: =SUM(H25:H30) -> 540790
A33: Total Revenues | C33: =C6+C22+C31 -> 2107931.8 | D33: =D6+D22+D31 -> 2169200.9 | E33: =E6+E22+E31 -> 2124830.1 | F33: =F6+F22+F31 -> 1698673.5 | G33: =G6+G22+G31 -> 2078530 | H33: =H6+H22+H31 -> 2150260
A35: Expenses
A36: Wages and Benefits:
A37: 510-110-230 | B37: =VLOOKUP(A37,'[1]SQL DATA'!$B:$J,3,FALSE) -> GG - Office Wages | C37: =VLOOKUP(A37,'[1]SQL DATA'!$B:$K,10,FALSE) -> 161471.54 | D37: =VLOOKUP(A37,'[1]SQL DATA'!$B:$J,9,FALSE) -> 175757.49 | E37: =VLOOKUP(A37,'[1]SQL DATA'!$B:$J,7,FALSE) -> 181765.63 | F37: =VLOOKUP(A37,'[1]SQL DATA'!$B:$J,6,FALSE) -> 113921.99 | G37: 190200 | H37: 211080
A38: 510-130-231 | B38: =VLOOKUP(A38,'[1]SQL DATA'!$B:$J,3,FALSE) -> GG - Benefits - CPP | C38: =VLOOKUP(A38,'[1]SQL DATA'!$B:$K,10,FALSE) -> 4315.84 | D38: =VLOOKUP(A38,'[1]SQL DATA'!$B:$J,9,FALSE) -> 7029.99 | E38: =VLOOKUP(A38,'[1]SQL DATA'!$B:$J,7,FALSE) -> 7665.81 | F38: =VLOOKUP(A38,'[1]SQL DATA'!$B:$J,6,FALSE) -> 6081.04 | G38: 7500 | H38: =H37*0.0495-448 -> 10000.46
A39: 510-130-232 | B39: =VLOOKUP(A39,'[1]SQL DATA'!$B:$J,3,FALSE) -> GG - Benefits - EI | C39: =VLOOKUP(A39,'[1]SQL DATA'!$B:$K,10,FALSE) -> 3973.08 | D39: =VLOOKUP(A39,'[1]SQL DATA'!$B:$J,9,FALSE) -> 2759.81 | E39: =VLOOKUP(A39,'[1]SQL DATA'!$B:$J,7,FALSE) -> 2821.21 | F39: =VLOOKUP(A39,'[1]SQL DATA'!$B:$J,6,FALSE) -> 2444.8 | G39: 3000 | H39: =H37*0.02443-57 -> 5099.6844
A40: 510-130-233 | B40: =VLOOKUP(A40,'[1]SQL DATA'!$B:$J,3,FALSE) -> GG - Benefits - MEPP | C40: =VLOOKUP(A40,'[1]SQL DATA'!$B:$K,10,FALSE) -> 15884.36 | D40: =VLOOKUP(A40,'[1]SQL DATA'!$B:$J,9,FALSE) -> 15769.25 | E40: =VLOOKUP(A40,'[1]SQL DATA'!$B:$J,7,FALSE) -> 16101.78 | F40: =VLOOKUP(A40,'[1]SQL DATA'!$B:$J,6,FALSE) -> 9828.02 | G40: 16660 | H40: =H37*0.09-1997 -> 17000.2
A41: 510-130-234 | B41: =VLOOKUP(A41,'[1]SQL DATA'!$B:$J,3,FALSE) -> GG - Benefits - Worker Compensation | C41: =VLOOKUP(A41,'[1]SQL DATA'!$B:$K,10,FALSE) -> 743.86 | D41: =VLOOKUP(A41,'[1]SQL DATA'!$B:$J,9,FALSE) -> 3218.08 | E41: =VLOOKUP(A41,'[1]SQL DATA'!$B:$J,7,FALSE) -> 2921.19 | F41: =VLOOKUP(A41,'[1]SQL DATA'!$B:$J,6,FALSE) -> 3070.8 | G41: 3300 | H41: =H37*0.01-1 -> 2109.8
A42: 510-130-235 | B42: =VLOOKUP(A42,'[1]SQL DATA'!$B:$J,3,FALSE) -> GG - Group Benefits | C42: =VLOOKUP(A42,'[1]SQL DATA'!$B:$K,10,FALSE) -> 12739.65 | D42: =VLOOKUP(A42,'[1]SQL DATA'!$B:$J,9,FALSE) -> 13391.47 | E42: =VLOOKUP(A42,'[1]SQL DATA'!$B:$J,7,FALSE) -> 11708.96 | F42: =VLOOKUP(A42,'[1]SQL DATA'!$B:$J,6,FALSE) -> 6405.01 | G42: 13500 | H42: =H37*0.06-5-430 -> 12229.8
A43: Total Wages and Benefits | C43: =SUM(C37:C42) -> 199128.33 | D43: =SUM(D37:D42) -> 217926.09 | E43: =SUM(E37:E42) -> 222984.58 | F43: =SUM(F37:F42) -> 141751.66 | G43: =SUM(G37:G42) -> 234160 | H43: =SUM(H37:H42) -> 257519.94
A45: Professional/Contractual Services:
...

Sheet Council
C1: =+[1]Master!C3 -> 2019 | D1: =+[1]Master!D3 -> 2020 | E1: =+[1]Master!E3 -> 2021 | F1: =+[1]Master!F3 -> 2022 | G1: =+[1]Master!G3 -> 2021 | H1: =+[1]Master!H3 -> 2022
C2: =+[1]Master!C4 -> YTD | D2: =+[1]Master!D4 -> YTD | E2: =+[1]Master!E4 -> YTD | F2: =+[1]Master!F4 -> YTD | G2: =+[1]Master!G4 -> Budget | H2: =+[1]Master!H4 -> Budget
A3: Revenues
C4: 0 | D4: 0 | E4: 0 | F4: 0 | G4: 0 | H4: 0
A5: Total Revenues | C5: =SUM(C4) -> 0 | D5: =SUM(D4) -> 0 | E5: =SUM(E4) -> 0 | F5: =SUM(F4) -> 0 | G5: =SUM(G4) -> 0 | H5: =SUM(H4) -> 0
A7: Expenses
A9: Wages and Benefits:
A10: 510-110-110 | B10: =VLOOKUP(A10,'[1]SQL DATA'!$B:$J,3,FALSE) -> GG - Council - Indemnity | C10: =VLOOKUP(A10,'[1]SQL DATA'!$B:$K,10,FALSE) -> 32310 | D10: =VLOOKUP(A10,'[1]SQL DATA'!$B:$J,9,FALSE) -> 25248.92 | E10: =VLOOKUP(A10,'[1]SQL DATA'!$B:$J,7,FALSE) -> 44564 | F10: =VLOOKUP(A10,'[1]SQL DATA'!$B:$J,6,FALSE) -> 17220 | G10: 38000 | H10: 44600
A11: 510-120-110 | B11: =VLOOKUP(A11,'[1]SQL DATA'!$B:$J,3,FALSE) -> GG - Council - Benefits - CPP | C11: =VLOOKUP(A11,'[1]SQL DATA'!$B:$K,10,FALSE) -> 504.24 | D11: =VLOOKUP(A11,'[1]SQL DATA'!$B:$J,9,FALSE) -> 397.11 | E11: =VLOOKUP(A11,'[1]SQL DATA'!$B:$J,7,FALSE) -> 839.63 | F11: =VLOOKUP(A11,'[1]SQL DATA'!$B:$J,6,FALSE) -> 415.83 | G11: 810 | H11: 800
A12: 510-120-115 | B12: =VLOOKUP(A12,'[1]SQL DATA'!$B:$J,3,FALSE) -> GG - Council - Benefits - Group | C12: =VLOOKUP(A12,'[1]SQL DATA'!$B:$K,10,FALSE) -> 3193.87 | D12: =VLOOKUP(A12,'[1]SQL DATA'!$B:$J,9,FALSE) -> 4226.55 | E12: =VLOOKUP(A12,'[1]SQL DATA'!$B:$J,7,FALSE) -> 4682.94 | F12: =VLOOKUP(A12,'[1]SQL DATA'!$B:$J,6,FALSE) -> 3092.94 | G12: 8400 | H12: 8400
A13: Total Wages and Benefits | C13: =SUM(C10:C12) -> 36008.11 | D13: =SUM(D10:D12) -> 29872.58 | E13: =SUM(E10:E12) -> 50086.57 | F13: =SUM(F10:F12) -> 20728.77 | G13: =SUM(G10:G12) -> 47210 | H13: =SUM(H10:H12) -> 53800
A15: Maintenance, Materials, and Supplies:
A16: 510-210-160 | B16: =VLOOKUP(A16,'[1]SQL DATA'!$B:$J,3,FALSE) -> GG - Council Discretionary Fund | C16: =VLOOKUP(A16,'[1]SQL DATA'!$B:$K,10,FALSE) -> 6961.57 | D16: =VLOOKUP(A16,'[1]SQL DATA'!$B:$J,9,FALSE) -> 3227.27 | E16: =VLOOKUP(A16,'[1]SQL DATA'!$B:$J,7,FALSE) -> 6732.33 | F16: =VLOOKUP(A16,'[1]SQL DATA'!$B:$J,6,FALSE) -> 975.96 | G16: 7500 | H16: 7500
A17: Total Maintenance, Materials, and Supplies | C17: =SUM(C16:C16) -> 6961.57 | D17: =SUM(D16:D16) -> 3227.27 | E17: =SUM(E16:E16) -> 6732.33 | F17: =SUM(F16:F16) -> 975.96 | G17: =SUM(G16:G16) -> 7500 | H17: =SUM(H16:H16) -> 7500
B19: Special Events Expenses | C19: 0 | D19: 0 | E19: 0 | F19: 0 | G19: 0 | H19: 0
A21: Other:
A22: 510-210-110 | B22: =VLOOKUP(A22,'[1]SQL DATA'!$B:$J,3,FALSE) -> GG - Council Travel & Meals | C22: =VLOOKUP(A22,'[1]SQL DATA'!$B:$K,10,FALSE) -> 1330 | D22: =VLOOKUP(A22,'[1]SQL DATA'!$B:$J,9,FALSE) -> 2025 | E22: =VLOOKUP(A22,'[1]SQL DATA'!$B:$J,7,FALSE) -> 1699.5 | F22: =VLOOKUP(A22,'[1]SQL DATA'!$B:$J,6,FALSE) -> 1225 | G22: 5000 | H22: 5000
A23: 510-210-140 | B23: =VLOOKUP(A23,'[1]SQL DATA'!$B:$J,3,FALSE) -> GG - Council - Conferences/Travel/Meals | C23: =VLOOKUP(A23,'[1]SQL DATA'!$B:$K,10,FALSE) -> 0 | D23: =VLOOKUP(A23,'[1]SQL DATA'!$B:$J,9,FALSE) -> 869.5 | E23: =VLOOKUP(A23,'[1]SQL DATA'!$B:$J,7,FALSE) -> 160 | F23: =VLOOKUP(A23,'[1]SQL DATA'!$B:$J,6,FALSE) -> 1927.08 | G23: 3000 | H23: 3000
A24: 510-210-150 | B24: =VLOOKUP(A24,'[1]SQL DATA'!$B:$J,3,FALSE) -> GG - Council - Convention/Travel/Meals | C24: =VLOOKUP(A24,'[1]SQL DATA'!$B:$K,10,FALSE) -> 5604.02 | D24: =VLOOKUP(A24,'[1]SQL DATA'!$B:$J,9,FALSE) -> 1935 | E24: =VLOOKUP(A24,'[1]SQL DATA'!$B:$J,7,FALSE) -> 0 | F24: =VLOOKUP(A24,'[1]SQL DATA'!$B:$J,6,FALSE) -> 3102.73 | G24: 4500 | H24: 4500
A25: Total Other | C25: =SUM(C22:C24) -> 6934.02 | D25: =SUM(D22:D24) -> 4829.5 | E25: =SUM(E22:E24) -> 1859.5 | F25: =SUM(F22:F24) -> 6254.81 | G25: =SUM(G22:G24) -> 12500 | H25: =SUM(H19:H24) -> 12500
A27: Total Expenses | C27: =C13+C17+C19+C25 -> 49903.7 | D27: =D13+D17+D19+D25 -> 37929.35 | E27: =E13+E17+E19+E25 -> 58678.4 | F27: =F13+F17+F19+F25 -> 27959.54 | G27: =G13+G17+G19+G25 -> 67210 | H27: =H13+H17+H19+H25 -> 73800
A29: Surplus (Deficit) by Cost Centre | C29: =(C5)-C27 -> -49903.7 | D29: =(D5)-D27 -> -37929.35 | E29: =(E5)-E27 -> -58678.4 | F29: =(F5)-F27 -> -27959.54 | G29: =(G5)-G27 -> -67210 | H29: =(H5)-H27 -> -73800

Sheet Fire Dept
C1: 2019 | D1: 2020 | E1: 2021 | F1: 2022 | G1: 2021 | H1: 2022
C2: YTD | D2: YTD | E2: YTD | F2: YTD | G2: Budget | H2: Budget
A3: Revenues
A4: Reserves
A5: 490-100-105 | B5: =VLOOKUP(A5,'[1]SQL DATA'!$B:$J,3,FALSE) -> Transfer from Reserves - Fire | C5: =VLOOKUP(A5,'[1]SQL DATA'!$B:$K,10,FALSE) -> 0 | D5: =VLOOKUP(A5,'[1]SQL DATA'!$B:$J,9,FALSE) -> 0 | E5: =VLOOKUP(A5,'[1]SQL DATA'!$B:$J,7,FALSE) -> 20212.5 | F5: =VLOOKUP(A5,'[1]SQL DATA'!$B:$J,6,FALSE) -> 0 | G5: 0 | H5: 0
A6: Total Transfers from Reserves | C6: =+C5 -> 0 | D6: =+D5 -> 0 | E6: =+E5 -> 20212.5 | F6: =+F5 -> 0 | G6: =+G5 -> 0 | H6: =+H5 -> 0
A8: Fees and Charges:
A9: 420-400-300 | B9: =VLOOKUP(A9,'[1]SQL DATA'!$B:$J,3,FALSE) -> F&C - Fire Fees | C9: =VLOOKUP(A9,'[1]SQL DATA'!$B:$K,10,FALSE) -> 11304.89 | D9: =VLOOKUP(A9,'[1]SQL DATA'!$B:$J,9,FALSE) -> 1150 | E9: =VLOOKUP(A9,'[1]SQL DATA'!$B:$J,7,FALSE) -> 118.75 | F9: =VLOOKUP(A9,'[1]SQL DATA'!$B:$J,6,FALSE) -> 0 | G9: 1000 | H9: 1000
A10: 420-400-305 | B10: =VLOOKUP(A10,'[1]SQL DATA'!$B:$J,3,FALSE) -> F&C - Fire Fees recovered by RM | C10: =VLOOKUP(A10,'[1]SQL DATA'!$B:$K,10,FALSE) -> 42410.59 | D10: =VLOOKUP(A10,'[1]SQL DATA'!$B:$J,9,FALSE) -> 40893.39 | E10: =VLOOKUP(A10,'[1]SQL DATA'!$B:$J,7,FALSE) -> 43210.84 | F10: =VLOOKUP(A10,'[1]SQL DATA'!$B:$J,6,FALSE) -> 15497.49 | G10: 25000 | H10: 42170
A11: Total Fees and Charges | C11: =SUM(C9:C10) -> 53715.48 | D11: =SUM(D9:D10) -> 42043.39 | E11: =SUM(E9:E10) -> 43329.59 | F11: =SUM(F9:F10) -> 15497.49 | G11: =SUM(G9:G10) -> 26000 | H11: =SUM(H9:H10) -> 43170
A13: Total Revenues | C13: =+C11+C6 -> 53715.48 | D13: =+D11+D6 -> 42043.39 | E13: =+E11+E6 -> 63542.09 | F13: =+F11+F6 -> 15497.49 | G13: =+G11+G6 -> 26000 | H13: =+H11+H6 -> 43170
A15: Expenses
A16: Wages and Benefits:
A17: 525-110-120 | B17: =VLOOKUP(A17,'[1]SQL DATA'!$B:$J,3,FALSE) -> PS - Fire - Salaries | C17: =VLOOKUP(A17,'[1]SQL DATA'!$B:$K,10,FALSE) -> 12479.9 | D17: =VLOOKUP(A17,'[1]SQL DATA'!$B:$J,9,FALSE) -> 9922.54 | E17: =VLOOKUP(A17,'[1]SQL DATA'!$B:$J,7,FALSE) -> 10072.08 | F17: =VLOOKUP(A17,'[1]SQL DATA'!$B:$J,6,FALSE) -> 1319.36 | G17: 7160 | H17: =7500-80-670 -> 6750
A18: 525-120-114 | B18: =VLOOKUP(A18,'[1]SQL DATA'!$B:$J,3,FALSE) -> PS - Fire - Benefits - WCB | C18: =VLOOKUP(A18,'[1]SQL DATA'!$B:$K,10,FALSE) -> 42.08 | D18: =VLOOKUP(A18,'[1]SQL DATA'!$B:$J,9,FALSE) -> 49.15 | E18: =VLOOKUP(A18,'[1]SQL DATA'!$B:$J,7,FALSE) -> 83.72 | F18: =VLOOKUP(A18,'[1]SQL DATA'!$B:$J,6,FALSE) -> 60.39 | G18: 40 | H18: 80
A19: 525-120-115 | B19: =VLOOKUP(A19,'[1]SQL DATA'!$B:$J,3,FALSE) -> PS - Fire - Benefits - Group | C19: =VLOOKUP(A19,'[1]SQL DATA'!$B:$K,10,FALSE) -> 295.08 | D19: =VLOOKUP(A19,'[1]SQL DATA'!$B:$J,9,FALSE) -> 669.9 | E19: =VLOOKUP(A19,'[1]SQL DATA'!$B:$J,7,FALSE) -> 673.52 | F19: =VLOOKUP(A19,'[1]SQL DATA'!$B:$J,6,FALSE) -> 704 | G19: 300 | H19: 670
A20: Total Wages and Benefits | C20: =SUM(C17:C19) -> 12817.06 | D20: =SUM(D17:D19) -> 10641.59 | E20: =SUM(E17:E19) -> 10829.32 | F20: =SUM(F17:F19) -> 2083.75 | G20: =SUM(G17:G19) -> 7500 | H20: =SUM(H17:H19) -> 7500
A22: Professional/Contractual Services:
A23: 525-210-110 | B23: =VLOOKUP(A23,'[1]SQL DATA'!$B:$J,3,FALSE) -> PS - Fire - Contracted Services | C23: =VLOOKUP(A23,'[1]SQL DATA'!$B:$K,10,FALSE) -> 1106.25 | D23: =VLOOKUP(A23,'[1]SQL DATA'!$B:$J,9,FALSE) -> 1518.75 | E23: =VLOOKUP(A23,'[1]SQL DATA'!$B:$J,7,FALSE) -> 1398.08 | F23: =VLOOKUP(A23,'[1]SQL DATA'!$B:$J,6,FALSE) -> 600 | G23: 3400 | H23: 4500
A24: Total Professional/Contractual Services | C24: =SUM(C23) -> 1106.25 | D24: =SUM(D23) -> 1518.75 | E24: =SUM(E23) -> 1398.08 | F24: =SUM(F23) -> 600 | G24: =SUM(G23) -> 3400 | H24: =SUM(H23) -> 4500
A26: Utilities:
A27: 525-300-140 | B27: =VLOOKUP(A27,'[1]SQL DATA'!$B:$J,3,FALSE) -> PS - Fire - Utility - Telephone | C27: =VLOOKUP(A27,'[1]SQL DATA'!$B:$K,10,FALSE) -> 4354.26 | D27: =VLOOKUP(A27,'[1]SQL DATA'!$B:$J,9,FALSE) -> 4683.79 | E27: =VLOOKUP(A27,'[1]SQL DATA'!$B:$J,7,FALSE) -> 5234.14 | F27: =VLOOKUP(A27,'[1]SQL DATA'!$B:$J,6,FALSE) -> 1752.36 | G27: 4700 | H27: 3250
A28: Total Utilities | C28: =+C27 -> 4354.26 | D28: =+D27 -> 4683.79 | E28: =+E27 -> 5234.14 | F28: =+F27 -> 1752.36 | G28: =+G27 -> 4700 | H28: =+H27 -> 3250
A30: Maintenance, Materials, and Supplies:
A31: 525-210-170 | B31: =VLOOKUP(A31,'[1]SQL DATA'!$B:$J,3,FALSE) -> PS - Fire - Training | C31: =VLOOKUP(A31,'[1]SQL DATA'!$B:$K,10,FALSE) -> 373.68 | D31: =VLOOKUP(A31,'[1]SQL DATA'!$B:$J,9,FALSE) -> 0 | E31: =VLOOKUP(A31,'[1]SQL DATA'!$B:$J,7,FALSE) -> 0 | F31: =VLOOKUP(A31,'[1]SQL DATA'!$B:$J,6,FALSE) -> 412.5 | G31: 2500 | H31: 3750
A32: 525-230-100 | B32: =VLOOKUP(A32,'[1]SQL DATA'!$B:$J,3,FALSE) -> PS - Fire - Insurance | C32: =VLOOKUP(A32,'[1]SQL DATA'!$B:$K,10,FALSE) -> 397.01 | D32: =VLOOKUP(A32,'[1]SQL DATA'!$B:$J,9,FALSE) -> 378.95 | E32: =VLOOKUP(A32,'[1]SQL DATA'!$B:$J,7,FALSE) -> 437.25 | F32: =VLOOKUP(A32,'[1]SQL DATA'!$B:$J,6,FALSE) -> 437.25 | G32: 440 | H32: 1750
A33: 525-240-100 | B33: =VLOOKUP(A33,'[1]SQL DATA'!$B:$J,3,FALSE) -> PS - Fire - Memberships/Subscriptions | C33: =VLOOKUP(A33,'[1]SQL DATA'!$B:$K,10,FALSE) -> 1846 | D33: =VLOOKUP(A33,'[1]SQL DATA'!$B:$J,9,FALSE) -> 1221.85 | E33: =VLOOKUP(A33,'[1]SQL DATA'!$B:$J,7,FALSE) -> 277.43 | F33: =VLOOKUP(A33,'[1]SQL DATA'!$B:$J,6,FALSE) -> 2336.35 | G33: 1000 | H33: 500
A34: 525-430-100 | B34: =VLOOKUP(A34,'[1]SQL DATA'!$B:$J,3,FALSE) -> PS - Fire Vehi/Equip. Repair/Parts/Tools | C34: =VLOOKUP(A34,'[1]SQL DATA'!$B:$K,10,FALSE) -> 189.9 | D34: =VLOOKUP(A34,'[1]SQL DATA'!$B:$J,9,FALSE) -> 0 | E34: =VLOOKUP(A34,'[1]SQL DATA'!$B:$J,7,FALSE) -> 963.05 | F34: =VLOOKUP(A34,'[1]SQL DATA'!$B:$J,6,FALSE) -> 4101.77 | G34: 1750 | H34: 5000
A35: 525-430-110 | B35: =VLOOKUP(A35,'[1]SQL DATA'!$B:$J,3,FALSE) -> PS - Fire - Oil & Gas | C35: =VLOOKUP(A35,'[1]SQL DATA'!$B:$K,10,FALSE) -> 1656.29 | D35: =VLOOKUP(A35,'[1]SQL DATA'!$B:$J,9,FALSE) -> 1184.97 | E35: =VLOOKUP(A35,'[1]SQL DATA'!$B:$J,7,FALSE) -> 2191.04 | F35: =VLOOKUP(A35,'[1]SQL DATA'!$B:$J,6,FALSE) -> 1287.52 | G35: 1750 | H35: 1750
A36: 525-440-100 | B36: =VLOOKUP(A36,'[1]SQL DATA'!$B:$J,3,FALSE) -> PS - Fire - Small Tools/Equipment | C36: =VLOOKUP(A36,'[1]SQL DATA'!$B:$K,10,FALSE) -> 35.06 | D36: =VLOOKUP(A36,'[1]SQL DATA'!$B:$J,9,FALSE) -> 5032.34 | E36: =VLOOKUP(A36,'[1]SQL DATA'!$B:$J,7,FALSE) -> 18525.89 | F36: =VLOOKUP(A36,'[1]SQL DATA'!$B:$J,6,FALSE) -> 1227.72 | G36: 8500 | H36: 10000
A37: 525-450-100 | B37: =VLOOKUP(A37,'[1]SQL DATA'!$B:$J,3,FALSE) -> PS - Fire - Material & Supplies | C37: =VLOOKUP(A37,'[1]SQL DATA'!$B:$K,10,FALSE) -> 6116.25 | D37: =VLOOKUP(A37,'[1]SQL DATA'!$B:$J,9,FALSE) -> 5300.03 | E37: =VLOOKUP(A37,'[1]SQL DATA'!$B:$J,7,FALSE) -> 1006 | F37: =VLOOKUP(A37,'[1]SQL DATA'!$B:$J,6,FALSE) -> 1258.85 | G37: 20500 | H37: =7500 -> 7500
A38: Total Maintenance, Materials, and Supplies | C38: =SUM(C31:C37) -> 10614.19 | D38: =SUM(D31:D37) -> 13118.14 | E38: =SUM(E31:E37) -> 23400.66 | F38: =SUM(F31:F37) -> 11061.96 | G38: =SUM(G31:G37) -> 36440 | H38: =SUM(H31:H37) -> 30250
A40: Amortization:
A41: 525-600-590 | B41: =VLOOKUP(A41,'[1]SQL DATA'!$B:$J,3,FALSE) -> PS - Fire - Amortization Expense | C41: =VLOOKUP(A41,'[1]SQL DATA'!$B:$K,10,FALSE) -> 5109 | D41: =VLOOKUP(A41,'[1]SQL DATA'!$B:$J,9,FALSE) -> 7671.3 | E41: =VLOOKUP(A41,'[1]SQL DATA'!$B:$J,7,FALSE) -> 8399.47 | F41: =VLOOKUP(A41,'[1]SQL DATA'!$B:$J,6,FALSE) -> 0 | G41: 0 | H41: 0
A42: Total Amortization | C42: =SUM(C41) -> 5109 | D42: =SUM(D41) -> 7671.3 | E42: =SUM(E41) -> 8399.47 | F42: =SUM(F41) -> 0 | G42: =SUM(G41) -> 0 | H42: =SUM(H41) -> 0
A44: Other:
A45: 525-220-100 | B45: =VLOOKUP(A45,'[1]SQL DATA'!$B:$J,3,FALSE) -> PS - Fire - Travel, Meals & Subsistence | C45: =VLOOKUP(A45,'[1]SQL DATA'!$B:$K,10,FALSE) -> 0 | D45: =VLOOKUP(A45,'[1]SQL DATA'!$B:$J,9,FALSE) -> 0 | E45: =VLOOKUP(A45,'[1]SQL DATA'!$B:$J,7,FALSE) -> 0 | F45: =VLOOKUP(A45,'[1]SQL DATA'!$B:$J,6,FALSE) -> 0 | G45: 500 | H45: 380
A46: Total Other | C46: =+C45 -> 0 | D46: =+D45 -> 0 | E46: =+E45 -> 0 | F46: =+F45 -> 0 | G46: =+G45 -> 500 | H46: =+H45 -> 380
A48: 525-600-140 | B48: =VLOOKUP(A48,'[1]SQL DATA'!$B:$J,3,FALSE) -> PS - Fire - Pur of Cap Assets - Equip | C48: =VLOOKUP(A48,'[1]SQL DATA'!$B:$K,10,FALSE) -> 0 | D48: =VLOOKUP(A48,'[1]SQL DATA'!$B:$J,9,FALSE) -> 0 | E48: =VLOOKUP(A48,'[1]SQL DATA'!$B:$J,7,FALSE) -> 0 | F48: =VLOOKUP(A48,'[1]SQL DATA'!$B:$J,6,FALSE) -> 1007.62 | G48: 0 | H48: 0
A49: 590-110-110 | B49: =VLOOKUP(A49,'[1]SQL DATA'!$B:$J,3,FALSE) -> Transfer to Reserves - Fire/EMO | C49: =VLOOKUP(A49,'[1]SQL DATA'!$B:$K,10,FALSE) -> 13000 | D49: =VLOOKUP(A49,'[1]SQL DATA'!$B:$J,9,FALSE) -> 13000 | E49: =VLOOKUP(A49,'[1]SQL DATA'!$B:$J,7,FALSE) -> 8000 | F49: =VLOOKUP(A49,'[1]SQL DATA'!$B:$J,6,FALSE) -> 0 | G49: 8000 | H49: 15000
...

Sheet Building Inspection
C1: 2019 | D1: 2020 | E1: 2021 | F1: 2022 | G1: 2021 | H1: 2022
C2: YTD | D2: YTD | E2: YTD | F2: YTD | G2: Budget | H2: Budget
A3: Revenues
A4: Fees and Charges:
A5: 420-710-100 | B5: =VLOOKUP(A5,'[1]SQL DATA'!$B:$J,3,FALSE) -> F&C - Building Permit Fee | C5: =VLOOKUP(A5,'[1]SQL DATA'!$B:$K,10,FALSE) -> 5234.6 | D5: =VLOOKUP(A5,'[1]SQL DATA'!$B:$J,9,FALSE) -> 6429.76 | E5: =VLOOKUP(A5,'[1]SQL DATA'!$B:$J,7,FALSE) -> 10918.71 | F5: =VLOOKUP(A5,'[1]SQL DATA'!$B:$J,6,FALSE) -> 18694.82 | G5: 10000 | H5: 7530
A6: 420-710-105 | B6: =VLOOKUP(A6,'[1]SQL DATA'!$B:$J,3,FALSE) -> F&C - Development &/or Discretionary Use | C6: =VLOOKUP(A6,'[1]SQL DATA'!$B:$K,10,FALSE) -> 600 | D6: =VLOOKUP(A6,'[1]SQL DATA'!$B:$J,9,FALSE) -> 500 | E6: =VLOOKUP(A6,'[1]SQL DATA'!$B:$J,7,FALSE) -> 4883.7 | F6: =VLOOKUP(A6,'[1]SQL DATA'!$B:$J,6,FALSE) -> 605.07 | G6: 1000 | H6: 1990
A7: Total Fees and Charges | C7: =SUM(C5:C6) -> 5834.6 | D7: =SUM(D5:D6) -> 6929.76 | E7: =SUM(E5:E6) -> 15802.41 | F7: =SUM(F5:F6) -> 19299.89 | G7: =SUM(G5:G6) -> 11000 | H7: =SUM(H5:H6) -> 9520
A9: Total Revenues | C9: =+C7 -> 5834.6 | D9: =+D7 -> 6929.76 | E9: =+E7 -> 15802.41 | F9: =+F7 -> 19299.89 | G9: =+G7 -> 11000 | H9: =+H7 -> 9520
A11: Expenses
A12: Professional/Contractual Services:
A13: 520-210-110 | B13: =VLOOKUP(A13,'[1]SQL DATA'!$B:$J,3,FALSE) -> PS - Building Inspections | C13: =VLOOKUP(A13,'[1]SQL DATA'!$B:$K,10,FALSE) -> 4177.25 | D13: =VLOOKUP(A13,'[1]SQL DATA'!$B:$J,9,FALSE) -> 6632.14 | E13: =VLOOKUP(A13,'[1]SQL DATA'!$B:$J,7,FALSE) -> 12326.4 | F13: =VLOOKUP(A13,'[1]SQL DATA'!$B:$J,6,FALSE) -> 19698.33 | G13: 7500 | H13: 8050
A14: Total Professional/Contractual Services | C14: =+C13 -> 4177.25 | D14: =+D13 -> 6632.14 | E14: =+E13 -> 12326.4 | F14: =+F13 -> 19698.33 | G14: =+G13 -> 7500 | H14: =+H13 -> 8050
A16: Total Expenses | C16: =+C14 -> 4177.25 | D16: =+D14 -> 6632.14 | E16: =+E14 -> 12326.4 | F16: =+F14 -> 19698.33 | G16: =+G14 -> 7500 | H16: =+H14 -> 8050
A18: Surplus (Deficit) by Cost Centre | C18: =(+C9)-C16 -> 1657.35 | D18: =(+D9)-D16 -> 297.62 | E18: =(+E9)-E16 -> 3476.01 | F18: =(+F9)-F16 -> -398.44 | G18: =(+G9)-G16 -> 3500 | H18: =(+H9)-H16 -> 1470
B20: Averaged revenue & expenses over 3 years

Sheet Bylaw Enforcement
C1: 2019 | D1: 2020 | E1: 2021 | F1: 2022 | G1: 2021 | H1: 2022
C2: YTD | D2: YTD | E2: YTD | F2: YTD | G2: Budget | H2: Budget
A3: Revenues
A4: Reserves:
B5: Transfer from Reserves | C5: 0 | D5: 0 | E5: 0 | F5: 0 | G5: 0 | H5: 0
A6: Total Transfers from Reserves | C6: =SUM(C5) -> 0 | D6: =SUM(D5) -> 0 | E6: =SUM(E5) -> 0 | F6: =SUM(F5) -> 0 | G6: =SUM(G5) -> 0 | H6: =SUM(H5) -> 0
A8: Fees and Charges:
A9: 420-700-200 | B9: =VLOOKUP(A9,'[1]SQL DATA'!$B:$J,3,FALSE) -> F&C - Licenses - Business | C9: =VLOOKUP(A9,'[1]SQL DATA'!$B:$K,10,FALSE) -> 5110 | D9: =VLOOKUP(A9,'[1]SQL DATA'!$B:$J,9,FALSE) -> 5255.55 | E9: =VLOOKUP(A9,'[1]SQL DATA'!$B:$J,7,FALSE) -> 2489.68 | F9: =VLOOKUP(A9,'[1]SQL DATA'!$B:$J,6,FALSE) -> 2155 | G9: 5250 | H9: 4280
A10: 420-700-205 | B10: =VLOOKUP(A10,'[1]SQL DATA'!$B:$J,3,FALSE) -> F&C - Licenses - Intermunicipal Business | C10: =VLOOKUP(A10,'[1]SQL DATA'!$B:$K,10,FALSE) -> 250 | D10: =VLOOKUP(A10,'[1]SQL DATA'!$B:$J,9,FALSE) -> 0 | E10: =VLOOKUP(A10,'[1]SQL DATA'!$B:$J,7,FALSE) -> 1208.33 | F10: =VLOOKUP(A10,'[1]SQL DATA'!$B:$J,6,FALSE) -> 1441.66 | G10: 500 | H10: 610
A11: 420-700-210 | B11: =VLOOKUP(A11,'[1]SQL DATA'!$B:$J,3,FALSE) -> F&C - Licenses - Pets | C11: =VLOOKUP(A11,'[1]SQL DATA'!$B:$K,10,FALSE) -> 2715 | D11: =VLOOKUP(A11,'[1]SQL DATA'!$B:$J,9,FALSE) -> 1325 | E11: =VLOOKUP(A11,'[1]SQL DATA'!$B:$J,7,FALSE) -> 1530 | F11: =VLOOKUP(A11,'[1]SQL DATA'!$B:$J,6,FALSE) -> 1200 | G11: 1300 | H11: 1860
A12: Total Fees and Charges | C12: =SUM(C9:C11) -> 8075 | D12: =SUM(D9:D11) -> 6580.55 | E12: =SUM(E9:E11) -> 5228.01 | F12: =SUM(F9:F11) -> 4796.66 | G12: =SUM(G9:G11) -> 7050 | H12: =SUM(H9:H11) -> 6750
A14: Total Revenues | C14: =C6+C12 -> 8075 | D14: =D6+D12 -> 6580.55 | E14: =E6+E12 -> 5228.01 | F14: =F6+F12 -> 4796.66 | G14: =G6+G12 -> 7050 | H14: =H6+H12 -> 6750
A16: Expenses
A17: Wages and Benefits:
A18: 520-110-110 | B18: =VLOOKUP(A18,'[1]SQL DATA'!$B:$J,3,FALSE) -> PS - Bylaw Enforcement - Salaries | C18: =VLOOKUP(A18,'[1]SQL DATA'!$B:$K,10,FALSE) -> 0 | D18: =VLOOKUP(A18,'[1]SQL DATA'!$B:$J,9,FALSE) -> 23.16 | E18: =VLOOKUP(A18,'[1]SQL DATA'!$B:$J,7,FALSE) -> 4350 | F18: =VLOOKUP(A18,'[1]SQL DATA'!$B:$J,6,FALSE) -> 0 | G18: 4350 | H18: 0
A19: 520-120-110 | B19: =VLOOKUP(A19,'[1]SQL DATA'!$B:$J,3,FALSE) -> PS - Bylaw Enforcement - Benefits | C19: =VLOOKUP(A19,'[1]SQL DATA'!$B:$K,10,FALSE) -> 0 | D19: =VLOOKUP(A19,'[1]SQL DATA'!$B:$J,9,FALSE) -> 5.29 | E19: =VLOOKUP(A19,'[1]SQL DATA'!$B:$J,7,FALSE) -> 560 | F19: =VLOOKUP(A19,'[1]SQL DATA'!$B:$J,6,FALSE) -> 0 | G19: 560 | H19: 0
A20: Total Wages and Benefits | C20: =SUM(C18:C19) -> 0 | D20: =SUM(D18:D19) -> 28.45 | E20: =SUM(E18:E19) -> 4910 | F20: =SUM(F18:F19) -> 0 | G20: =SUM(G18:G19) -> 4910 | H20: =SUM(H18:H19) -> 0
A22: Professional/Contractual Services:
A23: 520-210-120 | B23: =VLOOKUP(A23,'[1]SQL DATA'!$B:$J,3,FALSE) -> PS - Bylaw Contracted Services | C23: =VLOOKUP(A23,'[1]SQL DATA'!$B:$K,10,FALSE) -> 10400 | D23: =VLOOKUP(A23,'[1]SQL DATA'!$B:$J,9,FALSE) -> 20700 | E23: =VLOOKUP(A23,'[1]SQL DATA'!$B:$J,7,FALSE) -> 7050 | F23: =VLOOKUP(A23,'[1]SQL DATA'!$B:$J,6,FALSE) -> 641 | G23: 6000 | H23: 0
A24: 520-210-125 | B24: =VLOOKUP(A24,'[1]SQL DATA'!$B:$J,3,FALSE) -> PS - Bylaw Enforcement - Other | C24: =VLOOKUP(A24,'[1]SQL DATA'!$B:$K,10,FALSE) -> 1453.55 | D24: =VLOOKUP(A24,'[1]SQL DATA'!$B:$J,9,FALSE) -> 1894.61 | E24: =VLOOKUP(A24,'[1]SQL DATA'!$B:$J,7,FALSE) -> 3538.44 | F24: =VLOOKUP(A24,'[1]SQL DATA'!$B:$J,6,FALSE) -> 250.84 | G24: 2000 | H24: 0
A25: Total Professional/Contractual Services | C25: =SUM(C23:C24) -> 11853.55 | D25: =SUM(D23:D24) -> 22594.61 | E25: =SUM(E23:E24) -> 10588.44 | F25: =SUM(F23:F24) -> 891.84 | G25: =SUM(G23:G24) -> 8000 | H25: =SUM(H23:H24) -> 0
A27: Maintenance, Materials, and Supplies:
A28: 520-420-100 | B28: =VLOOKUP(A28,'[1]SQL DATA'!$B:$J,3,FALSE) -> PS - Materials & Supplies | C28: =VLOOKUP(A28,'[1]SQL DATA'!$B:$K,10,FALSE) -> 102.85 | D28: =VLOOKUP(A28,'[1]SQL DATA'!$B:$J,9,FALSE) -> 89.72 | E28: =VLOOKUP(A28,'[1]SQL DATA'!$B:$J,7,FALSE) -> 0 | F28: =VLOOKUP(A28,'[1]SQL DATA'!$B:$J,6,FALSE) -> 97.64 | G28: 1100 | H28: 0
A29: Total Maintenance, Materials, and Supplies | C29: =+C28 -> 102.85 | D29: =+D28 -> 89.72 | E29: =+E28 -> 0 | F29: =+F28 -> 97.64 | G29: =+G28 -> 1100 | H29: =+H28 -> 0
A31: Total Expenses | C31: =+C29+C25+C20 -> 11956.4 | D31: =+D29+D25+D20 -> 22712.78 | E31: =+E29+E25+E20 -> 15498.44 | F31: =+F29+F25+F20 -> 989.48 | G31: =+G29+G25+G20 -> 14010 | H31: =+H29+H25+H20 -> 0
A33: Surplus (Deficit) by Cost Centre | C33: =(+C14)-C31 -> -3881.4 | D33: =(+D14)-D31 -> -16132.23 | E33: =(+E14)-E31 -> -10270.43 | F33: =(+F14)-F31 -> 3807.18 | G33: =(+G14)-G31 -> -6960 | H33: =(+H14)-H31 -> 6750
B35: Averaged revenue & expenses over 3 years

Sheet Protective Services
C1: 2019 | D1: 2020 | E1: 2021 | F1: 2022 | G1: 2021 | H1: 2022
C2: YTD | D2: YTD | E2: YTD | F2: YTD | G2: Budget | H2: Budget
A3: Revenues
A4: Reserves:
A5: 490-100-195 | B5: =VLOOKUP(A5,'[1]SQL DATA'!$B:$J,3,FALSE) -> Transfer from Reserves - PS | C5: 0 | D5: 0 | E5: 0 | F5: 0 | G5: 0 | H5: 0
A6: Total Transfers from Reserves | C6: =SUM(C5) -> 0 | D6: =SUM(D5) -> 0 | E6: =SUM(E5) -> 0 | F6: =SUM(F5) -> 0 | G6: =SUM(G5) -> 0 | H6: =SUM(H5) -> 0
A8: Revenues
A9: Fees and Charges:
A10: 420-400-100 | B10: =VLOOKUP(A10,'[1]SQL DATA'!$B:$J,3,FALSE) -> F&C - Criminal Record Check Fees | C10: =VLOOKUP(A10,'[1]SQL DATA'!$B:$K,10,FALSE) -> 2320 | D10: =VLOOKUP(A10,'[1]SQL DATA'!$B:$J,9,FALSE) -> 540 | E10: =VLOOKUP(A10,'[1]SQL DATA'!$B:$J,7,FALSE) -> 0 | F10: =VLOOKUP(A10,'[1]SQL DATA'!$B:$J,6,FALSE) -> 0 | G10: 0 | H10: 0
A11: 420-400-110 | B11: =VLOOKUP(A11,'[1]SQL DATA'!$B:$J,3,FALSE) -> F&C - Policing Fees - Fines | C11: =VLOOKUP(A11,'[1]SQL DATA'!$B:$K,10,FALSE) -> 9513.54 | D11: =VLOOKUP(A11,'[1]SQL DATA'!$B:$J,9,FALSE) -> 11342.41 | E11: =VLOOKUP(A11,'[1]SQL DATA'!$B:$J,7,FALSE) -> 9107.56 | F11: =VLOOKUP(A11,'[1]SQL DATA'!$B:$J,6,FALSE) -> 5198.22 | G11: 10000 | H11: 10000
A12: 420-400-710 | B12: =VLOOKUP(A12,'[1]SQL DATA'!$B:$J,3,FALSE) -> F&C CSO Fees Recoverable | C12: =VLOOKUP(A12,'[1]SQL DATA'!$B:$K,10,FALSE) -> 0 | D12: =VLOOKUP(A12,'[1]SQL DATA'!$B:$J,9,FALSE) -> 0 | F12: =VLOOKUP(A12,'[1]SQL DATA'!$B:$J,6,FALSE) -> 0 | G12: 0 | H12: =2000+26000 -> 28000
A13: 420-400-700 | B13: =VLOOKUP(A13,'[1]SQL DATA'!$B:$J,3,FALSE) -> F&C - Bylaw Enforcement Fees | C13: =VLOOKUP(A13,'[1]SQL DATA'!$B:$K,10,FALSE) -> 905 | D13: =VLOOKUP(A13,'[1]SQL DATA'!$B:$J,9,FALSE) -> 4858.2 | F13: =VLOOKUP(A13,'[1]SQL DATA'!$B:$J,6,FALSE) -> 6641 | G13: 1000 | H13: 2330
A14: Total Fees and Charges | C14: =SUM(C10:C13) -> 12738.54 | D14: =SUM(D10:D13) -> 16740.61 | E14: =SUM(E10:E13) -> 9107.56 | F14: =SUM(F10:F13) -> 11839.22 | G14: =SUM(G10:G13) -> 11000 | H14: =SUM(H10:H13) -> 40330
A16: Total Revenues | C16: =C6+C14 -> 12738.54 | D16: =D6+D14 -> 16740.61 | E16: =E6+E14 -> 9107.56 | F16: =F6+F14 -> 11839.22 | G16: =G6+G14 -> 11000 | H16: =H6+H14 -> 40330
A18: Expenses
A19: Wages and Benefits:
A20: 520-110-115 | B20: =VLOOKUP(A20,'[1]SQL DATA'!$B:$J,3,FALSE) -> PS - CSO - Salaries | C20: 0 | D20: 0 | E20: 0 | F20: 0 | G20: 0 | H20: =10000+4350+20000 -> 34350
A21: 520-120-115 | B21: =VLOOKUP(A21,'[1]SQL DATA'!$B:$J,3,FALSE) -> PS - CSO - Benefits | C21: 0 | D21: 0 | E21: 0 | F21: 0 | G21: 0 | H21: =600+560+4400 -> 5560
A22: Total Wages and Benefits | C22: =SUM(C20:C21) -> 0 | D22: =SUM(D20:D21) -> 0 | E22: =SUM(E20:E21) -> 0 | F22: =SUM(F20:F21) -> 0 | G22: =SUM(G20:G21) -> 0 | H22: =SUM(H20:H21) -> 39910
A24: Professional/Contractual Services:
A25: 520-450-100 | B25: =VLOOKUP(A25,'[1]SQL DATA'!$B:$J,3,FALSE) -> PS - Police - Other | C25: =VLOOKUP(A25,'[1]SQL DATA'!$B:$K,10,FALSE) -> 108520.69 | D25: =VLOOKUP(A25,'[1]SQL DATA'!$B:$J,9,FALSE) -> 112428.05 | E25: =VLOOKUP(A25,'[1]SQL DATA'!$B:$J,7,FALSE) -> 115445.33 | F25: =VLOOKUP(A25,'[1]SQL DATA'!$B:$J,6,FALSE) -> 129794.6 | G25: 113500 | H25: 120000
A26: Total Professional/Contractual Services | C26: =+C25 -> 108520.69 | D26: =+D25 -> 112428.05 | E26: =+E25 -> 115445.33 | F26: =+F25 -> 129794.6 | G26: =+G25 -> 113500 | H26: =+H25 -> 120000
A28: Utilities:
A29: 520-300-140 | B29: =VLOOKUP(A29,'[1]SQL DATA'!$B:$J,3,FALSE) -> PS - Utility - Telephone | C29: 0 | D29: 0 | E29: 0 | F29: 0 | G29: 0 | H29: 500
A30: Total Utilities | C30: =SUM(C29) -> 0 | D30: =SUM(D29) -> 0 | E30: =SUM(E29) -> 0 | F30: =SUM(F29) -> 0 | G30: =SUM(G29) -> 0 | H30: =SUM(H29) -> 500
A32: Maintenance, Materials, and Supplies:
A33: 520-420-100 | B33: =VLOOKUP(A33,'[1]SQL DATA'!$B:$J,3,FALSE) -> PS - Materials & Supplies | C33: 0 | D33: 0 | E33: 0 | F33: 0 | G33: 0 | H33: =28600+2800 -> 31400
A34: 520-420-170 | B34: =VLOOKUP(A34,'[1]SQL DATA'!$B:$J,3,FALSE) -> PS - Training | C34: 0 | D34: 0 | E34: 0 | F34: 0 | G34: 0 | H34: 10000
A35: Total Maintenance, Materials, and Supplies | C35: =SUM(C33:C34) -> 0 | D35: =SUM(D33:D34) -> 0 | E35: =SUM(E33:E34) -> 0 | F35: =SUM(F33:F34) -> 0 | G35: =SUM(G33:G34) -> 0 | H35: =SUM(H33:H34) -> 41400
A37: Amortization:
A38: 520-700-590 | B38: =VLOOKUP(A38,'[1]SQL DATA'!$B:$J,3,FALSE) -> PS - Amortization Expense | C38: 0 | D38: 0 | E38: 0 | F38: 0 | G38: 0 | H38: 0
A39: Total Amortization | C39: =SUM(C38) -> 0 | D39: =SUM(D38) -> 0 | E39: =SUM(E38) -> 0 | F39: =SUM(F38) -> 0 | G39: =SUM(G38) -> 0 | H39: =SUM(H38) -> 0
A41: Capital Purchases
A42: 520-600-120 | B42: =VLOOKUP(A42,'[1]SQL DATA'!$B:$J,3,FALSE) -> PS - Purchase of Capital Assets - Equip | C42: 0 | D42: 0 | E42: 0 | F42: 0 | G42: 0 | H42: 62000
A43: Total Capital Purchases | C43: =SUM(C42) -> 0 | D43: =SUM(D42) -> 0 | E43: =SUM(E42) -> 0 | F43: =SUM(F42) -> 0 | G43: =SUM(G42) -> 0 | H43: =SUM(H42) -> 62000
A45: Reserves
A46: 590-110-115 | B46: =VLOOKUP(A46,'[1]SQL DATA'!$B:$J,3,FALSE) -> Transfer to Reserves - PS | C46: 0 | D46: 0 | E46: 0 | F46: 0 | G46: 0 | H46: 0
A48: Total Expenses | C48: =C22+C35+C26+C39+C43+C46 -> 108520.69 | D48: =D22+D35+D26+D39+D43+D46 -> 112428.05 | E48: =E22+E35+E26+E39+E43+E46 -> 115445.33 | F48: =F22+F35+F26+F39+F43+F46 -> 129794.6 | G48: =G22+G35+G26+G39+G43+G46 -> 113500 | H48: =H22+H35+H26+H30+H39+H43+H46 -> 263810
A50: Surplus (Deficit) by Cost Centre | C50: =(+C16)-C48 -> -95782.15 | D50: =(+D16)-D48 -> -95687.44 | E50: =(+E16)-E48 -> -106337.77 | F50: =(+F16)-F48 -> -117955.38 | G50: =(+G16)-G48 -> -102500 | H50: =(+H16)-H48 -> -223480
B52: Averaged revenue over 3 years

Sheet Recreation
B1: 2019 | C1: 2020 | D1: 2021 | E1: 2022 | F1: 2021 | G1: 2022
B2: YTD | C2: YTD | D2: YTD | E2: YTD | F2: Budget | G2: Budget
A3: Revenues
A4: Transfer from Reserves | B4: =SUM('Rec Director'!C5+'Rec Centre'!C5+Pool!C5+'Parks, Campground, SG, etc'!C5) -> 20000 | C4: =SUM('Rec Director'!D5+'Rec Centre'!D5+Pool!D5+'Parks, Campground, SG, etc'!D5) -> 50000 | D4: =SUM('Rec Director'!E5+'Rec Centre'!E5+Pool!E5+'Parks, Campground, SG, etc'!E5) -> 70448.27 | E4: =SUM('Rec Director'!F5+'Rec Centre'!F5+Pool!F5+'Parks, Campground, SG, etc'!F5) -> 0 | F4: =SUM('Rec Director'!G5+'Rec Centre'!G5+Pool!G5+'Parks, Campground, SG, etc'!G5) -> 66250 | G4: =SUM('Rec Director'!H5+'Rec Centre'!H5+Pool!H5+'Parks, Campground, SG, etc'!H5) -> 104860
A5: Fees and Charges | B5: =SUM('Rec Director'!C9+'Rec Centre'!C19+Pool!C15+'Parks, Campground, SG, etc'!C13+'Playground Program'!C6) -> 410222.02 | C5: =SUM('Rec Director'!D9+'Rec Centre'!D19+Pool!D15+'Parks, Campground, SG, etc'!D13+'Playground Program'!D6) -> 474956.9 | D5: =SUM('Rec Director'!E9+'Rec Centre'!E19+Pool!E15+'Parks, Campground, SG, etc'!E13+'Playground Program'!E6) -> 397210.61 | E5: =SUM('Rec Director'!F9+'Rec Centre'!F19+Pool!F15+'Parks, Campground, SG, etc'!F13+'Playground Program'!F6) -> 214234.48 | F5: =SUM('Rec Director'!G9+'Rec Centre'!G19+Pool!G15+'Parks, Campground, SG, etc'!G13+'Playground Program'!G6) -> 396750 | G5: =SUM('Rec Director'!H9+'Rec Centre'!H19+Pool!H15+'Parks, Campground, SG, etc'!H13+'Playground Program'!H6) -> 366590
A6: Grants | B6: =SUM('Rec Director'!C19+'Rec Centre'!C22+Pool!C22+'Parks, Campground, SG, etc'!C17+'Playground Program'!C13) -> 26576.36 | C6: =SUM('Rec Director'!D19+'Rec Centre'!D22+Pool!D22+'Parks, Campground, SG, etc'!D17+'Playground Program'!D13) -> 31525.36 | D6: =SUM('Rec Director'!E19+'Rec Centre'!E22+Pool!E22+'Parks, Campground, SG, etc'!E17+'Playground Program'!E13) -> 35363.14 | E6: =SUM('Rec Director'!F19+'Rec Centre'!F22+Pool!F22+'Parks, Campground, SG, etc'!F17+'Playground Program'!F13) -> 24994.43 | F6: =SUM('Rec Director'!G19+'Rec Centre'!G22+Pool!G22+'Parks, Campground, SG, etc'!G17+'Playground Program'!G13) -> 26380 | G6: =SUM('Rec Director'!H19+'Rec Centre'!H22+Pool!H22+'Parks, Campground, SG, etc'!H17+'Playground Program'!H13) -> 21480
A7: Total Revenues | B7: =SUM(B4:B6) -> 456798.38 | C7: =SUM(C4:C6) -> 556482.26 | D7: =SUM(D4:D6) -> 503022.02 | E7: =SUM(E4:E6) -> 239228.91 | F7: =SUM(F4:F6) -> 489380 | G7: =SUM(G4:G6) -> 492930
A9: Expenses
A10: Wages and Benefits | B10: =SUM('Rec Director'!C27+'Rec Centre'!C34+Pool!C30+'Parks, Campground, SG, etc'!C29+'Playground Program'!C21)-1 -> 186228.92 | C10: =SUM('Rec Director'!D27+'Rec Centre'!D34+Pool!D30+'Parks, Campground, SG, etc'!D29+'Playground Program'!D21)-1 -> 295310.34 | D10: =SUM('Rec Director'!E27+'Rec Centre'!E34+Pool!E30+'Parks, Campground, SG, etc'!E29+'Playground Program'!E21)-1 -> 310733.91 | E10: =SUM('Rec Director'!F27+'Rec Centre'!F34+Pool!F30+'Parks, Campground, SG, etc'!F29+'Playground Program'!F21)-1 -> 219167.37 | F10: =SUM('Rec Director'!G27+'Rec Centre'!G34+Pool!G30+'Parks, Campground, SG, etc'!G29+'Playground Program'!G21)-1 -> 348939 | G10: =SUM('Rec Director'!H27+'Rec Centre'!H34+Pool!H30+'Parks, Campground, SG, etc'!H29+'Playground Program'!H21)-1 -> 271209.64
A11: Professional/Contractual Services | B11: =SUM('Rec Centre'!C49+Pool!C41+'Parks, Campground, SG, etc'!C33) -> 34472.22 | C11: =SUM('Rec Centre'!D49+Pool!D41+'Parks, Campground, SG, etc'!D33) -> 10858.21 | D11: =SUM('Rec Centre'!E49+Pool!E41+'Parks, Campground, SG, etc'!E33) -> 7195.41 | E11: =SUM('Rec Centre'!F49+Pool!F41+'Parks, Campground, SG, etc'!F33) -> 2045.89 | F11: =SUM('Rec Centre'!G49+Pool!G41+'Parks, Campground, SG, etc'!G33) -> 17720 | G11: =SUM('Rec Centre'!H49+Pool!H41+'Parks, Campground, SG, etc'!H33) -> 47920
A12: Utilities | B12: =SUM('Rec Director'!C31+'Rec Centre'!C42+Pool!C37+'Parks, Campground, SG, etc'!C40) -> 49551.18 | C12: =SUM('Rec Director'!D31+'Rec Centre'!D42+Pool!D37+'Parks, Campground, SG, etc'!D40) -> 76750.94 | D12: =SUM('Rec Director'!E31+'Rec Centre'!E42+Pool!E37+'Parks, Campground, SG, etc'!E40) -> 59407.13 | E12: =SUM('Rec Director'!F31+'Rec Centre'!F42+Pool!F37+'Parks, Campground, SG, etc'!F40) -> 47485.58 | F12: =SUM('Rec Director'!G31+'Rec Centre'!G42+Pool!G37+'Parks, Campground, SG, etc'!G40) -> 67880 | G12: =SUM('Rec Director'!H31+'Rec Centre'!H42+Pool!H37+'Parks, Campground, SG, etc'!H40) -> 68400
A13: Maintenance, Materials, and Supplies | B13: =SUM('Rec Director'!C41+'Rec Centre'!C66+Pool!C52+'Parks, Campground, SG, etc'!C51+'Playground Program'!C25) -> 151818.71 | C13: =SUM('Rec Director'!D41+'Rec Centre'!D66+Pool!D52+'Parks, Campground, SG, etc'!D51+'Playground Program'!D25) -> 154366.07 | D13: =SUM('Rec Director'!E41+'Rec Centre'!E66+Pool!E52+'Parks, Campground, SG, etc'!E51+'Playground Program'!E25) -> 163437.32 | E13: =SUM('Rec Director'!F41+'Rec Centre'!F66+Pool!F52+'Parks, Campground, SG, etc'!F51+'Playground Program'!F25) -> 115370.26 | F13: =SUM('Rec Director'!G41+'Rec Centre'!G66+Pool!G52+'Parks, Campground, SG, etc'!G51+'Playground Program'!G25) -> 182310 | G13: =SUM('Rec Director'!H41+'Rec Centre'!H66+Pool!H52+'Parks, Campground, SG, etc'!H51+'Playground Program'!H25) -> 222380
A14: Grants and Contributions | B14: ='Rec Director'!C45+'Rec Centre'!C70 -> 104299.44 | C14: ='Rec Director'!D45+'Rec Centre'!D70 -> 122398.48 | D14: ='Rec Director'!E45+'Rec Centre'!E70 -> 38881.15 | E14: ='Rec Director'!F45+'Rec Centre'!F70 -> 2400 | F14: ='Rec Director'!G45+'Rec Centre'!G70 -> 23890 | G14: ='Rec Director'!H45+'Rec Centre'!H70 -> 23890
A15: Amortization | B15: ='Rec Director'!C48 -> 15533 | C15: ='Rec Director'!D48 -> 0 | D15: ='Rec Director'!E48 -> 28527.36 | E15: ='Rec Director'!F48 -> 0 | F15: ='Rec Director'!G48 -> 0 | G15: ='Rec Director'!H48 -> 0
A16: Interest & Bank Charges | B16: =SUM('Rec Centre'!C74+Pool!C56) -> 685.89 | C16: =SUM('Rec Centre'!D74+Pool!D56) -> 557.52 | D16: =SUM('Rec Centre'!E74+Pool!E56) -> 671.12 | E16: =SUM('Rec Centre'!F74+Pool!F56) -> 797.16 | F16: =SUM('Rec Centre'!G74+Pool!G56) -> 600 | G16: =SUM('Rec Centre'!H74+Pool!H56) -> 600
A17: Other | B17: =SUM('Rec Director'!C53) -> 809.15 | C17: =SUM('Rec Director'!D53) -> 1746 | D17: =SUM('Rec Director'!E53) -> 1330 | E17: =SUM('Rec Director'!F53) -> 1279 | F17: =SUM('Rec Director'!G53) -> 2500 | G17: =SUM('Rec Director'!H53) -> 2500
A18: Capital | B18: =SUM('Rec Centre'!C77+Pool!C59+'Parks, Campground, SG, etc'!C53) -> 0 | C18: =SUM('Rec Centre'!D77+Pool!D59+'Parks, Campground, SG, etc'!D53) -> 0 | D18: =SUM('Rec Centre'!E77+Pool!E59+'Parks, Campground, SG, etc'!E53) -> 0.06 | E18: =SUM('Rec Centre'!F77+Pool!F59+'Parks, Campground, SG, etc'!F53) -> 31049.5 | F18: =SUM('Rec Centre'!G77+Pool!G59+'Parks, Campground, SG, etc'!G53) -> 114710 | G18: =SUM('Rec Centre'!H77+Pool!H59+'Parks, Campground, SG, etc'!H53) -> 79000
A19: Transfer to Reserves | B19: =SUM('Rec Director'!C55+'Rec Centre'!C78+Pool!C60+'Parks, Campground, SG, etc'!C54) -> 70000 | C19: =SUM('Rec Director'!D55+'Rec Centre'!D78+Pool!D60+'Parks, Campground, SG, etc'!D54) -> 164710.62 | D19: =SUM('Rec Director'!E55+'Rec Centre'!E78+Pool!E60+'Parks, Campground, SG, etc'!E54) -> 235015.86 | E19: =SUM('Rec Director'!F55+'Rec Centre'!F78+Pool!F60+'Parks, Campground, SG, etc'!F54) -> 0 | F19: =SUM('Rec Director'!G55+'Rec Centre'!G78+Pool!G60+'Parks, Campground, SG, etc'!G54) -> 26170 | G19: =SUM('Rec Director'!H55+'Rec Centre'!H78+Pool!H60+'Parks, Campground, SG, etc'!H54) -> 35000
A20: Total Expenses | B20: =SUM(B10:B19) -> 613398.51 | C20: =SUM(C10:C19) -> 826698.18 | D20: =SUM(D10:D19) -> 845199.32 | E20: =SUM(E10:E19) -> 419594.76 | F20: =SUM(F10:F19) -> 784719 | G20: =SUM(G10:G19) -> 750899.64
A22: Surplus (Deficit) by Cost Centre | B22: =B7-B20 -> -156600.13 | C22: =C7-C20 -> -270215.92 | D22: =D7-D20 -> -342177.3 | E22: =E7-E20 -> -180365.85 | F22: =F7-F20 -> -295339 | G22: =G7-G20 -> -257969.64
B24: =(B22/'GG -Admin'!C9)*-1 -> 0.10253804 | C24: Based on Taxes | E24: =(G22/'GG -Admin'!H9)*-1 -> 0.16049375 | F24: Based on Taxes
B25: =(B22/'SUMMARY-F'!B5)*-1 -> 0.053283191 | C25: Based on fees & charges | E25: =(G22/'SUMMARY-F'!G5)*-1 -> 0.085562068 | F25: Based on fees & charges
A27: Approved on ___________________________________
A31: Amund Otterson, Mayor

Sheet Rec Director
C1: 2019 | D1: 2020 | E1: 2021 | F1: 2022 | G1: 2021 | H1: 2022
A2: Revenues | C2: YTD | D2: YTD | E2: YTD | F2: YTD | G2: Budget | H2: Budget
A3: Reserves:
A4: 490-100-145 | B4: =VLOOKUP(A4,'[1]SQL DATA'!$B:$J,3,FALSE) -> Transfer from Reserves - Rec Director | C4: =VLOOKUP(A4,'[1]SQL DATA'!$B:$K,10,FALSE) -> 0 | D4: =VLOOKUP(A4,'[1]SQL DATA'!$B:$J,9,FALSE) -> 0 | E4: =VLOOKUP(A4,'[1]SQL DATA'!$B:$J,7,FALSE) -> 3689 | F4: =VLOOKUP(A4,'[1]SQL DATA'!$B:$J,6,FALSE) -> 0 | G4: 3660 | H4: 3660
A5: Total Transfers from Reserves | C5: =+C4 -> 0 | D5: =+D4 -> 0 | E5: =+E4 -> 3689 | F5: =+F4 -> 0 | G5: =+G4 -> 3660 | H5: =+H4 -> 3660
A7: Fees and Charges:
A8: 490-900-100 | B8: =VLOOKUP(A8,'[1]SQL DATA'!$B:$J,3,FALSE) -> Other | C8: =VLOOKUP(A8,'[1]SQL DATA'!$B:$K,10,FALSE) -> 0 | D8: =VLOOKUP(A8,'[1]SQL DATA'!$B:$J,9,FALSE) -> 0 | E8: =VLOOKUP(A8,'[1]SQL DATA'!$B:$J,7,FALSE) -> 0 | F8: =VLOOKUP(A8,'[1]SQL DATA'!$B:$J,6,FALSE) -> 0 | G8: 0 | H8: 0
A9: Total Fees and Charges | C9: =SUM(C8) -> 0 | D9: =+D8 -> 0 | E9: =+E8 -> 0 | F9: =+F8 -> 0 | G9: =+G8 -> 0 | H9: =+H8 -> 0
A11: Grants - Local:
